30323.350424149000901
0.000000000000000
0.000000000000000
-30323.350424149000901
-3851065.503867025487125
2880718.290294225327671
